BEGIN:VCALENDAR
VERSION:2.0
PRODID: -//CMS 5.0 //NONSGML //DE
BEGIN:VEVENT
SUMMARY:And the Glory of the Lord
DESCRIPTION:Eine musiklische Reise durch die Länder des Arbeitsbereiche
 s von Bezirksapostel Rüdiger Krause anlässlich seiner Ruhesetzung und
  des Besuchs von Stammapostel Jean-Luc Schneider.\n\nVortragende sind e
 in Projektkinderchor der Gebietskirche, der Kammerchor Gloria Dei Flens
 burg, der Hamburg-Chor (kurz cHHor) und der Kammerchor Wilhelmshaven.\n
 \nDas Konzert wird aus der NAK Hamburg-Eppendorf per YouTube und IPTV 
 übertragen.\n\n\n\nhttps://nak-nordost.de/db/564304
UID:564304@nak-nordost.de
LOCATION:
CATEGORIES:Gebietskirche,Konzerte, Musik
X-ORGANIZER:
STATUS:CONFIRMED
CLASS:PUBLIC
DTSTART:20251213T153000Z
DTEND:20251213T170000Z
DTSTAMP:20260422T165712Z
CREATED:20251211T155442Z
LAST-MODIFIED:20251212T080904Z
BEGIN:VALARM
UID:4F120EB6-3E6C-11F1-8BF3-EB1069372A87
TRIGGER:-PT60M
ACTION:DISPLAY
DESCRIPTION:SUMMARY:And the Glory of the Lord
END:VALARM
END:VEVENT
END:VCALENDAR
