BEGIN:VCALENDAR
VERSION:2.0
PRODID: -//CMS 5.0 //NONSGML //DE
BEGIN:VEVENT
SUMMARY:B | Der Römerbrief 1(5) | online
DESCRIPTION:Der Römerbrief gilt als einer der wichtigsten Briefe des Ap
 ostels Paulus. Auf ihm basieren weite Teile der Theologie und er hat ei
 ne große Relevanz für unsere Glaubenslehre. Der Adressat ist die chri
 s …\n\n\n\nhttps://app1.edoobox.com/de/NAK-NO/Fortbildung_Amtstr%C3%A
 4ger/Bibelkunde/Online-Kurs.ed.b373cf7d6280_2919757849.B%20%7C%20Der%20
 R%C3%B6merbrief%201%20%285%29%20%7C%20online\n\n\n\nhttps://nak-nordost
 .de/db/243552
UID:243552@nak-nordost.de
LOCATION:
CATEGORIES:Geistliche,Fortbildung
X-ORGANIZER:
STATUS:CONFIRMED
CLASS:PUBLIC
DTSTART:20230418T170000Z
DTEND:20230418T170000Z
DTSTAMP:20260420T213031Z
CREATED:20260420T213031Z
LAST-MODIFIED:20230711T101657Z
BEGIN:VALARM
UID:28CAFE38-3D00-11F1-95E6-3E8C5629324C
TRIGGER:-PT60M
ACTION:DISPLAY
DESCRIPTION:SUMMARY:B | Der Römerbrief 1(5) | online
END:VALARM
END:VEVENT
END:VCALENDAR
